BEGIN:VCALENDAR
VERSION:2.0
PRODID:-//Tukios.com/
BEGIN:VEVENT
UID:74a89263-f47f-45ed-bbde-1dadc87b9c19@www.keyserfuneralservice.com
DTSTAMP:20260419T202705Z
DTSTART:20260421T140000Z
DTEND:20260421T150000Z
SUMMARY:Funeral Service
DESCRIPTION:
URL:https://www.keyserfuneralservice.com/obituaries/patricia-mitchell
LOCATION:Woodstock Jewish Congregation 1682 Glasco Turnpike  Woodstock NY 
	12498
GEO:42.0534789;-74.0704014
END:VEVENT
END:VCALENDAR