BEGIN:VCALENDAR
VERSION:2.0
PRODID:-//Tukios.com/
BEGIN:VEVENT
UID:c63b3148-ed7f-42fe-879a-f1630b188b6e@www.keyserfuneralservice.com
DTSTAMP:20260419T203416Z
DTSTART:20260421
SUMMARY:Graveside Service
DESCRIPTION:
URL:https://www.keyserfuneralservice.com/obituaries/patricia-mitchell
LOCATION:Montrepose Cemetery 75 Montrepose Ave  Kingston NY 12401
GEO:41.9186067;-73.9953055
END:VEVENT
END:VCALENDAR