BEGIN:VCALENDAR
VERSION:2.0
PRODID:-//Tukios.com/
BEGIN:VEVENT
UID:c1859ed8-fa0d-4ea9-a2f0-4a8d435c6cec@www.keyserfuneralservice.com
DTSTAMP:20260420T090953Z
DTSTART:20260501T140000Z
DTEND:20260501T150000Z
SUMMARY:Graveside Service
DESCRIPTION:
URL:https://www.keyserfuneralservice.com/obituaries/kevin-kehoe
LOCATION: 618 Kings Hwy  Saugerties NY 12477
GEO:42.0302914;-73.9890404
END:VEVENT
END:VCALENDAR