BEGIN:VCALENDAR
VERSION:2.0
PRODID:-//Tukios.com/
BEGIN:VEVENT
UID:694001d5-ff1d-4721-82d0-f8dcd625e3b8@www.keyserfuneralservice.com
DTSTAMP:20260425T194153Z
DTSTART:20260429T150000Z
DTEND:20260429T160000Z
SUMMARY:Graveside Service
DESCRIPTION:
URL:https://www.keyserfuneralservice.com/obituaries/joel-iskowitz
LOCATION:Woodstock Artist's Cemetery 12 Mountainview Avenue  Woodstock NY 
	12498
GEO:42.0432798;-74.1201421
END:VEVENT
END:VCALENDAR