BEGIN:VCALENDAR
VERSION:2.0
PRODID:-//Tukios.com/
BEGIN:VEVENT
UID:1efa7ac9-5aa5-45e2-bf5b-9ecec71b6194@www.keyserfuneralservice.com
DTSTAMP:20260425T174208Z
DTSTART:20260428T170000Z
DTEND:20260428T180000Z
SUMMARY:Crematory Service
DESCRIPTION:
URL:https://www.keyserfuneralservice.com/obituaries/helene-ford
LOCATION:Wiltwyck Rural Cemetery 205 West O'Reilly Street  Kingston NY 
	12401
GEO:41.9197401;-74.004794
END:VEVENT
END:VCALENDAR