BEGIN:VCALENDAR
VERSION:2.0
PRODID:-//Tukios.com/
BEGIN:VEVENT
UID:6f4d20e9-8a41-46b3-b27d-2f2f15bc9949@www.keyserfuneralservice.com
DTSTAMP:20260423T205311Z
DTSTART:20260501T173000Z
DTEND:20260501T183000Z
SUMMARY:Graveside Service
DESCRIPTION:
URL:https://www.keyserfuneralservice.com/obituaries/delano-landsverk
LOCATION: 81 Plains Rd  New Paltz NY 12561
GEO:41.7399035;-74.0979511
END:VEVENT
END:VCALENDAR